BEGIN:VCALENDAR
VERSION:2.0
PRODID:-//Plone.org//NONSGML plone.app.event//EN
X-WR-TIMEZONE:Europe/Madrid
BEGIN:VEVENT
SUMMARY:Evento de muestra
DTSTART;TZID=Europe/Madrid:20181210T150000
DTEND;TZID=Europe/Madrid:20191006T160000
DTSTAMP:20260420T052606Z
UID:ec5d9bba2e884ca89606ea07a268f08c@visions.upc.edu
CONTACT:Responsable evento\, adreca@noreply.com
CREATED:20181210T141444Z
LAST-MODIFIED:20181210T141444Z
LOCATION:Lugar del evento
URL:https://visions.upc.edu/es/eventos/evento-de-muestra
END:VEVENT
BEGIN:VTIMEZONE
TZID:Europe/Madrid
X-LIC-LOCATION:Europe/Madrid
BEGIN:STANDARD
DTSTART:20181028T020000
TZNAME:CET
TZOFFSETFROM:+0200
TZOFFSETTO:+0100
END:STANDARD
BEGIN:DAYLIGHT
DTSTART:20190331T030000
TZNAME:CEST
TZOFFSETFROM:+0100
TZOFFSETTO:+0200
END:DAYLIGHT
END:VTIMEZONE
END:VCALENDAR
