BEGIN:VCALENDAR
VERSION:2.0
PRODID:-//Plone.org//NONSGML plone.app.event//EN
X-WR-TIMEZONE:Europe/Madrid
BEGIN:VEVENT
SUMMARY:Esdeveniment de mostra
DTSTART;TZID=Europe/Madrid:20181210T150000
DTEND;TZID=Europe/Madrid:20191006T160000
DTSTAMP:20260420T000455Z
UID:ad3fb21dc00747a2a1506117645d33cd@visions.upc.edu
CONTACT:Responsable esdeveniment\, adreca@noreply.com
CREATED:20181210T141444Z
LAST-MODIFIED:20181210T141444Z
LOCATION:Lloc de l'esdeveniment
URL:https://visions.upc.edu/ca/esdeveniments/esdeveniment-de-mostra
END:VEVENT
BEGIN:VTIMEZONE
TZID:Europe/Madrid
X-LIC-LOCATION:Europe/Madrid
BEGIN:STANDARD
DTSTART:20181028T020000
TZNAME:CET
TZOFFSETFROM:+0200
TZOFFSETTO:+0100
END:STANDARD
BEGIN:DAYLIGHT
DTSTART:20190331T030000
TZNAME:CEST
TZOFFSETFROM:+0100
TZOFFSETTO:+0200
END:DAYLIGHT
END:VTIMEZONE
END:VCALENDAR
